BEGIN:VCALENDAR
VERSION:2.0
PRODID:-//Motorradstaffel Polizei Hamburg - ECPv6.15.17//NONSGML v1.0//EN
CALSCALE:GREGORIAN
METHOD:PUBLISH
X-ORIGINAL-URL:https://www.motorradstaffel.de
X-WR-CALDESC:Veranstaltungen für Motorradstaffel Polizei Hamburg
REFRESH-INTERVAL;VALUE=DURATION:PT1H
X-Robots-Tag:noindex
X-PUBLISHED-TTL:PT1H
BEGIN:VTIMEZONE
TZID:Europe/Berlin
BEGIN:DAYLIGHT
TZOFFSETFROM:+0100
TZOFFSETTO:+0200
TZNAME:CEST
DTSTART:20240331T010000
END:DAYLIGHT
BEGIN:STANDARD
TZOFFSETFROM:+0200
TZOFFSETTO:+0100
TZNAME:CET
DTSTART:20241027T010000
END:STANDARD
BEGIN:DAYLIGHT
TZOFFSETFROM:+0100
TZOFFSETTO:+0200
TZNAME:CEST
DTSTART:20250330T010000
END:DAYLIGHT
BEGIN:STANDARD
TZOFFSETFROM:+0200
TZOFFSETTO:+0100
TZNAME:CET
DTSTART:20251026T010000
END:STANDARD
BEGIN:DAYLIGHT
TZOFFSETFROM:+0100
TZOFFSETTO:+0200
TZNAME:CEST
DTSTART:20260329T010000
END:DAYLIGHT
BEGIN:STANDARD
TZOFFSETFROM:+0200
TZOFFSETTO:+0100
TZNAME:CET
DTSTART:20261025T010000
END:STANDARD
END:VTIMEZONE
BEGIN:VEVENT
DTSTART;VALUE=DATE:20250524
DTEND;VALUE=DATE:20250526
DTSTAMP:20260426T031345
CREATED:20180226T202124Z
LAST-MODIFIED:20250417T081722Z
UID:1764-1748044800-1748217599@www.motorradstaffel.de
SUMMARY:Wunderlich GmbH in Grafschaft-Ringen - Anfahrt 2025
DESCRIPTION:40 Jahre Wunderlich. Das muss gefeiert werden. Die Firma Wunderlich eröffnet die Motorradsaison 2025 mit ihrer Veranstaltung Anfahrt 2025 in Grafschaft-Ringen und feiert ihr Jubiläum . \nWir werden im Rahmen dieser Veranstaltung am 24.05.2025 und 25.05.2025 mit unseren alten BMW R50 Motorrädern dort auftreten und ein Teil aus unserem Programm vorführen. \nMehr zu der Firma Wunderlich »
URL:https://www.motorradstaffel.de/event/bmw-wunderlich-in-sinzig-anfahrt-2018/
LOCATION:BMW Wunderlich\, Joseph-von-Fraunhofer-Str. 6-8\, Grafschaft-Ringen\, 53501\, Deutschland
END:VEVENT
END:VCALENDAR