BEGIN:VCALENDAR
VERSION:2.0
PRODID:-//Motorradstaffel Polizei Hamburg - ECPv6.15.17//NONSGML v1.0//EN
CALSCALE:GREGORIAN
METHOD:PUBLISH
X-WR-CALNAME:Motorradstaffel Polizei Hamburg
X-ORIGINAL-URL:https://www.motorradstaffel.de
X-WR-CALDESC:Veranstaltungen für Motorradstaffel Polizei Hamburg
REFRESH-INTERVAL;VALUE=DURATION:PT1H
X-Robots-Tag:noindex
X-PUBLISHED-TTL:PT1H
BEGIN:VTIMEZONE
TZID:Europe/Berlin
BEGIN:DAYLIGHT
TZOFFSETFROM:+0100
TZOFFSETTO:+0200
TZNAME:CEST
DTSTART:20240331T010000
END:DAYLIGHT
BEGIN:STANDARD
TZOFFSETFROM:+0200
TZOFFSETTO:+0100
TZNAME:CET
DTSTART:20241027T010000
END:STANDARD
BEGIN:DAYLIGHT
TZOFFSETFROM:+0100
TZOFFSETTO:+0200
TZNAME:CEST
DTSTART:20250330T010000
END:DAYLIGHT
BEGIN:STANDARD
TZOFFSETFROM:+0200
TZOFFSETTO:+0100
TZNAME:CET
DTSTART:20251026T010000
END:STANDARD
BEGIN:DAYLIGHT
TZOFFSETFROM:+0100
TZOFFSETTO:+0200
TZNAME:CEST
DTSTART:20260329T010000
END:DAYLIGHT
BEGIN:STANDARD
TZOFFSETFROM:+0200
TZOFFSETTO:+0100
TZNAME:CET
DTSTART:20261025T010000
END:STANDARD
END:VTIMEZONE
BEGIN:VEVENT
DTSTART;TZID=Europe/Berlin:20250729T100000
DTEND;TZID=Europe/Berlin:20250729T150000
DTSTAMP:20260425T230900
CREATED:20190603T072501Z
LAST-MODIFIED:20250417T075940Z
UID:1853-1753783200-1753801200@www.motorradstaffel.de
SUMMARY:Kinder-Hit-Tag 2025
DESCRIPTION:Jedes Jahr im Sommer laden Polizei und Feuerwehr Hamburg zum HIT-Tag ein. Dieses Jahr wird der Hit-Tag am 29. Juli 2025 stattfinden. \n 
URL:https://www.motorradstaffel.de/event/kinder-hit-tag-2019/
LOCATION:Carl-Cohn-Straße 39\, Carl-Cohn-Straße 39\, Hamburg\, Hamburg\, 22297\, Deutschland
END:VEVENT
END:VCALENDAR